BEGIN:VCALENDAR
VERSION:2.0
PRODID:-//ExpressionEngine Easy iCalendar plugin//NONSGML v2.0.1//EN
X-WR-TIMEZONE:America/Chicago
X-WR-CALNAME:Upcoming Auctions
BEGIN:VEVENT
UID:145915
DTSTAMP:20251017T080000
DTSTART:20251017T080000
DTEND:20251021T170000
SUMMARY:October 2025 Consignments
LOCATION:10785 261st AVE NW\, Zimmerman \, MN 55398\, US
DESCRIPTION:We have reached our limit on Firearms and will not be taking
  any more for this sale.  Our next sale for firearms will b
 e in November.   We will be accepting Vehicles\, Powersport
 s\, Trailers\, Watercraft and Equipment Monday October 6th t
 hrough Thursday October 9th and Monday October 13th and Tu
 esday October 14th from 9am to 5pm. 
URL:https://hillerauction.bwpreview.com/auctions/detail/bw145915
SEQUENCE:1
END:VEVENT
END:VCALENDAR