BEGIN:VCALENDAR
VERSION:2.0
PRODID:-//ExpressionEngine Easy iCalendar plugin//NONSGML v2.0.1//EN
X-WR-TIMEZONE:America/Chicago
X-WR-CALNAME:Upcoming Auctions
BEGIN:VEVENT
UID:145920
DTSTAMP:20251212T080000
DTSTART:20251212T080000
DTEND:20251215T170000
SUMMARY:December 2025 Consignments
LOCATION:10785 261st AVE NW\, Zimmerman \, MN 55398\, US
DESCRIPTION:Bidding starts Friday December 12th and closes Monday Decemb
 er 15th at 5pm. Inspection will be Saturday December 13th fr
 om 9am to Noon and Monday December 15th from 9am to 5pm. Loa
 d Out will be Tuesday December 16th from 9am to 6pm and Wedn
 esday December 17th from 9am to 3pm. 12% Buyers premium and 
 sales tax on all items. 
URL:https://hillerauction.bwpreview.com/auctions/detail/bw145920
SEQUENCE:1
END:VEVENT
END:VCALENDAR