BEGIN:VCALENDAR
VERSION:2.0
PRODID:-//ExpressionEngine Easy iCalendar plugin//NONSGML v2.0.1//EN
X-WR-TIMEZONE:America/Chicago
X-WR-CALNAME:Upcoming Auctions
BEGIN:VEVENT
UID:148872
DTSTAMP:20251205T130000
DTSTART:20251205T130000
DTEND:20251205T143000
SUMMARY:Saint Paul Police Impound
LOCATION:830 Barge Chanel RD\, St Paul \, MN 55107\, US
DESCRIPTION:Due to Snow Emergency the sale date will be Friday December 
 5th. Gates open at 11:30 and bidding starts at 1pm. $5 entry
  fee with a valid photo ID required. Live bidding only! Cash
  Only Sale! A list will be posted the Wednesday prior to auc
 tion if provided. 
URL:https://hillerauction.bwpreview.com/auctions/detail/bw148872
SEQUENCE:1
END:VEVENT
END:VCALENDAR