BEGIN:VCALENDAR
VERSION:2.0
PRODID:-//ExpressionEngine Easy iCalendar plugin//NONSGML v2.0.1//EN
X-WR-TIMEZONE:America/Chicago
X-WR-CALNAME:Upcoming Auctions
BEGIN:VEVENT
UID:149800
DTSTAMP:20251017T080000
DTSTART:20251017T080000
DTEND:20251021T170000
SUMMARY:October Trees
LOCATION:10785 261st AVE NW\, Zimmerman \, MN 55398\, US
DESCRIPTION:Bidding starts Friday October 17th @ 8am and closes Monday O
 ctober 20th @ 5pm. 12% Buyers premium and sales tax
URL:https://hillerauction.bwpreview.com/auctions/detail/bw149800
SEQUENCE:1
END:VEVENT
END:VCALENDAR