BEGIN:VCALENDAR
VERSION:2.0
PRODID:-//ExpressionEngine Easy iCalendar plugin//NONSGML v2.0.1//EN
X-WR-TIMEZONE:America/Chicago
X-WR-CALNAME:Upcoming Auctions
BEGIN:VEVENT
UID:153680
DTSTAMP:20260116T080000
DTSTART:20260116T080000
DTEND:20260119T170000
SUMMARY:January 2026 Consignments
LOCATION:10785 261st AVE NW\, Zimmerman \, MN 55398\, US
DESCRIPTION:January Powersports & More Consignment Sale Bid on: • Vehi
 cles • Snowmobiles • ATVs and UTVs • Trailers • Fire
 arms • Tools • And more Bidding Schedule: • Opens Frid
 ay\, January 16 at 8:00 AM • Begins closing Monday\, January
  19 at 5:00 PM Inspection Times: • Saturday\, January 17 | 
 9:00 AM to 12:00 PM • Monday\, January 19 | 9:00 AM to 5:00
  PM Auction Location: • All items located at the auction b
 arn • 10785 261st Ave NW • Zimmerman\, MN 55398
URL:https://hillerauction.bwpreview.com/auctions/detail/bw153680
SEQUENCE:1
END:VEVENT
END:VCALENDAR