BEGIN:VCALENDAR
VERSION:2.0
PRODID:-//ExpressionEngine Easy iCalendar plugin//NONSGML v2.0.1//EN
X-WR-TIMEZONE:America/Chicago
X-WR-CALNAME:Upcoming Auctions
BEGIN:VEVENT
UID:153681
DTSTAMP:20260213T080000
DTSTART:20260213T080000
DTEND:20260216T170000
SUMMARY:February 2026 Consignments
LOCATION:10785 261st AVE NW\, Zimmerman \, MN 55398\, US
DESCRIPTION:Bidding opens Friday\, February 13th at 8:00 AM and closes Mo
 nday\, February 16th at 5:00 PM. All items are located at the
  Auction Barn\, 10785 261st Ave NW\, Zimmerman\, MN 55398. Insp
 ection times are Saturday\, February 14th from 9:00 AM to 12:
 00 PM and Monday\, February 16th from 10:00 AM to 4:00 PM. Lo
 ad out will be held Tuesday\, February 17th from 9:00 AM to 6
 :00 PM and Wednesday\, February 18th from 9:00 AM to 3:00 PM.
  All items must be paid for and picked up during these times
 . Firearms purchases require completion of a 4473 background
  check. For out-of-state bidders\, any item marked “permit 
 required” must be shipped to a licensed FFL dealer in the 
 bidder’s home state. A 12% buyer’s premium and applicabl
 e sales tax will be added to all purchases.
URL:https://hillerauction.bwpreview.com/auctions/detail/bw153681
SEQUENCE:1
END:VEVENT
END:VCALENDAR