BEGIN:VCALENDAR
VERSION:2.0
PRODID:-//ExpressionEngine Easy iCalendar plugin//NONSGML v2.0.1//EN
X-WR-TIMEZONE:America/Chicago
X-WR-CALNAME:Upcoming Auctions
BEGIN:VEVENT
UID:154514
DTSTAMP:20260130T080000
DTSTART:20260130T080000
DTEND:20260202T170000
SUMMARY:Jeff Nelson Lind-Nelson Construction Retirement Sale.
LOCATION:3794 299th Ave NW\, Isanti \, MN 55040\, US
DESCRIPTION:Jeff Nelson – Lind-Nelson Construction Retirement Sale All
  items are located at 3794 299th Ave NW\, Isanti\, MN 55040. I
 nspection Times: • Saturday\, January 31st from 9:00 AM to 
 12:00 PM • Monday\, February 2nd from 10:00 AM to 4:00 PM L
 oad-Out: • Tuesday\, February 3rd from 9:00 AM to 5:00 PM A
 ll items must be picked up at this location. No shipping or 
 hauling services are available.
URL:https://hillerauction.bwpreview.com/auctions/detail/bw154514
SEQUENCE:1
END:VEVENT
END:VCALENDAR