BEGIN:VCALENDAR
VERSION:2.0
PRODID:-//ExpressionEngine Easy iCalendar plugin//NONSGML v2.0.1//EN
X-WR-TIMEZONE:America/Chicago
X-WR-CALNAME:Upcoming Auctions
BEGIN:VEVENT
UID:158217
DTSTAMP:20260312T130000
DTSTART:20260312T130000
DTEND:20260312T140000
SUMMARY:Saint Paul Police Impound
LOCATION:830 Barge Chanel RD\, St Paul \, MN 55107\, US
DESCRIPTION:Gates open at 11:00 AM and Bidding starts at 1:00 PM.  A li
 st will be posted Wednesday prior to the auction if provided
  by the city. There will not be individual pictures of the v
 ehicles as this is a live in person auction. 
URL:https://hillerauction.bwpreview.com/auctions/detail/bw158217
SEQUENCE:1
END:VEVENT
END:VCALENDAR