BEGIN:VCALENDAR
VERSION:2.0
PRODID:-//ExpressionEngine Easy iCalendar plugin//NONSGML v2.0.1//EN
X-WR-TIMEZONE:America/Chicago
X-WR-CALNAME:Upcoming Auctions
BEGIN:VEVENT
UID:158429
DTSTAMP:20260612T080000
DTSTART:20260612T080000
DTEND:20260615T170000
SUMMARY:June 2026 Consignment Sale
LOCATION:10785 261st AVE NW\, Zimmerman \, MN 55398\, US
DESCRIPTION:June 2026 Consignment Sale Drop-Off Dates: Inside General Me
 rchandise: We will not be taking any indoor general merchand
 ise for this sale. . Firearms & Firearm-Related Items: We w
 ill be closed Monday\, Memorial Day. Tuesday\, May 26 – Thur
 sday\, May 28 | 9:00 AM – 5:00 PM Monday\, June 1 – Thursd
 ay\, June 4 | 9:00 AM – 5:00 PM Vehicles\, Powersports\, Wate
 rcraft\, Equipment & Attachments: Monday\, June 1 – Thursday
 \, June 4 | 9:00 AM – 5:00 PM Monday\, June 8 – Tuesday\, J
 une 9 | 9:00 AM – 5:00 PM
URL:https://hillerauction.bwpreview.com/auctions/detail/bw158429
SEQUENCE:1
END:VEVENT
END:VCALENDAR